BEGIN:VCALENDAR
VERSION:2.0
PRODID:-//Long Beach Alliance Church - ECPv6.11.0.1//NONSGML v1.0//EN
CALSCALE:GREGORIAN
METHOD:PUBLISH
X-WR-CALNAME:Long Beach Alliance Church
X-ORIGINAL-URL:https://lbac.org
X-WR-CALDESC:Events for Long Beach Alliance Church
REFRESH-INTERVAL;VALUE=DURATION:PT1H
X-Robots-Tag:noindex
X-PUBLISHED-TTL:PT1H
BEGIN:VTIMEZONE
TZID:America/Los_Angeles
BEGIN:DAYLIGHT
TZOFFSETFROM:-0800
TZOFFSETTO:-0700
TZNAME:PDT
DTSTART:20250309T100000
END:DAYLIGHT
BEGIN:STANDARD
TZOFFSETFROM:-0700
TZOFFSETTO:-0800
TZNAME:PST
DTSTART:20251102T090000
END:STANDARD
END:VTIMEZONE
BEGIN:VEVENT
DTSTART;TZID=America/Los_Angeles:20251209T190000
DTEND;TZID=America/Los_Angeles:20251209T210000
DTSTAMP:20260423T061742
CREATED:20250813T050600Z
LAST-MODIFIED:20251209T074202Z
UID:10001884-1765306800-1765314000@lbac.org
SUMMARY:Men's Bible Study @ the Millers
DESCRIPTION:Studying: Deuteronomy\nFacilitator: John Welliver\nContact Dave Miller 562.773.9100 dmiller002@cc.rr.com
URL:https://lbac.org/event/mens-bible-study-the-millers-39/
LOCATION:4702 Snowden Ave\, Lakewood\, CA\, United States
GEO:33.850465;-118.109399
END:VEVENT
BEGIN:VEVENT
DTSTART;TZID=America/Los_Angeles:20251204T093000
DTEND;TZID=America/Los_Angeles:20251204T113000
DTSTAMP:20260423T061742
CREATED:20250712T215440Z
LAST-MODIFIED:20251204T064345Z
UID:10001792-1764840600-1764847800@lbac.org
SUMMARY:Women's Bible Study @ the Millers
DESCRIPTION:Facilitators: Colvin and Miller; Hosting Marilyn MillersContact: Marilyn Miller 562.922.2024 \nDavid- by Charles Swindoll
URL:https://lbac.org/event/womens-bible-study-the-millers-23/
LOCATION:4702 Snowden Ave\, Lakewood\, CA\, United States
GEO:33.850465;-118.109399
END:VEVENT
BEGIN:VEVENT
DTSTART;TZID=America/Los_Angeles:20251202T190000
DTEND;TZID=America/Los_Angeles:20251202T210000
DTSTAMP:20260423T061742
CREATED:20250813T050558Z
LAST-MODIFIED:20251202T062806Z
UID:10001883-1764702000-1764709200@lbac.org
SUMMARY:Men's Bible Study @ the Millers
DESCRIPTION:Studying: Deuteronomy\nFacilitator: John Welliver\nContact Dave Miller 562.773.9100 dmiller002@cc.rr.com
URL:https://lbac.org/event/mens-bible-study-the-millers-38/
LOCATION:4702 Snowden Ave\, Lakewood\, CA\, United States
GEO:33.850465;-118.109399
END:VEVENT
BEGIN:VEVENT
DTSTART;TZID=America/Los_Angeles:20251120T093000
DTEND;TZID=America/Los_Angeles:20251120T113000
DTSTAMP:20260423T061742
CREATED:20250629T183350Z
LAST-MODIFIED:20251120T033020Z
UID:10001766-1763631000-1763638200@lbac.org
SUMMARY:Women's Bible Study @ the Millers
DESCRIPTION:Facilitators: Colvin and Miller; Hosting Marilyn MillersContact: Marilyn Miller 562.922.2024 \nDavid- by Charles Swindoll
URL:https://lbac.org/event/womens-bible-study-the-millers-21/
LOCATION:4702 Snowden Ave\, Lakewood\, CA\, United States
GEO:33.850465;-118.109399
END:VEVENT
BEGIN:VEVENT
DTSTART;TZID=America/Los_Angeles:20251118T190000
DTEND;TZID=America/Los_Angeles:20251118T210000
DTSTAMP:20260423T061742
CREATED:20250813T050554Z
LAST-MODIFIED:20251119T031611Z
UID:10001881-1763492400-1763499600@lbac.org
SUMMARY:Men's Bible Study @ the Millers
DESCRIPTION:Studying: Deuteronomy\nFacilitator: John Welliver\nContact Dave Miller 562.773.9100 dmiller002@cc.rr.com
URL:https://lbac.org/event/mens-bible-study-the-millers-36/
LOCATION:4702 Snowden Ave\, Lakewood\, CA\, United States
GEO:33.850465;-118.109399
END:VEVENT
BEGIN:VEVENT
DTSTART;TZID=America/Los_Angeles:20251113T093000
DTEND;TZID=America/Los_Angeles:20251113T113000
DTSTAMP:20260423T061742
CREATED:20250627T175645Z
LAST-MODIFIED:20251113T013242Z
UID:10001751-1763026200-1763033400@lbac.org
SUMMARY:Women's Bible Study @ the Millers
DESCRIPTION:Facilitators: Colvin and Miller; Hosting Marilyn MillersContact: Marilyn Miller 562.922.2024 \nDavid- by Charles Swindoll
URL:https://lbac.org/event/womens-bible-study-the-millers-20/
LOCATION:4702 Snowden Ave\, Lakewood\, CA\, United States
GEO:33.850465;-118.109399
END:VEVENT
BEGIN:VEVENT
DTSTART;TZID=America/Los_Angeles:20251111T190000
DTEND;TZID=America/Los_Angeles:20251111T210000
DTSTAMP:20260423T061742
CREATED:20250813T050552Z
LAST-MODIFIED:20251112T012650Z
UID:10001880-1762887600-1762894800@lbac.org
SUMMARY:Men's Bible Study @ the Millers
DESCRIPTION:Studying: Deuteronomy\nFacilitator: John Welliver\nContact Dave Miller 562.773.9100 dmiller002@cc.rr.com
URL:https://lbac.org/event/mens-bible-study-the-millers-35/
LOCATION:4702 Snowden Ave\, Lakewood\, CA\, United States
GEO:33.850465;-118.109399
END:VEVENT
BEGIN:VEVENT
DTSTART;TZID=America/Los_Angeles:20251106T093000
DTEND;TZID=America/Los_Angeles:20251106T113000
DTSTAMP:20260423T061742
CREATED:20250627T175629Z
LAST-MODIFIED:20251105T233526Z
UID:10001735-1762421400-1762428600@lbac.org
SUMMARY:Women's Bible Study @ the Millers
DESCRIPTION:Facilitators: Colvin and Miller; Hosting Marilyn MillersContact: Marilyn Miller 562.922.2024 \nDavid- by Charles Swindoll
URL:https://lbac.org/event/womens-bible-study-the-millers-19/
LOCATION:4702 Snowden Ave\, Lakewood\, CA\, United States
GEO:33.850465;-118.109399
END:VEVENT
BEGIN:VEVENT
DTSTART;TZID=America/Los_Angeles:20251104T190000
DTEND;TZID=America/Los_Angeles:20251104T210000
DTSTAMP:20260423T061742
CREATED:20250813T050549Z
LAST-MODIFIED:20251104T232526Z
UID:10001879-1762282800-1762290000@lbac.org
SUMMARY:Men's Bible Study @ the Millers
DESCRIPTION:Studying: Deuteronomy\nFacilitator: John Welliver\nContact Dave Miller 562.773.9100 dmiller002@cc.rr.com
URL:https://lbac.org/event/mens-bible-study-the-millers-34/
LOCATION:4702 Snowden Ave\, Lakewood\, CA\, United States
GEO:33.850465;-118.109399
END:VEVENT
BEGIN:VEVENT
DTSTART;TZID=America/Los_Angeles:20251030T093000
DTEND;TZID=America/Los_Angeles:20251030T113000
DTSTAMP:20260423T061742
CREATED:20250627T175625Z
LAST-MODIFIED:20251029T213721Z
UID:10001723-1761816600-1761823800@lbac.org
SUMMARY:Women's Bible Study @ the Millers
DESCRIPTION:Facilitators: Colvin and Miller; Hosting Marilyn MillersContact: Marilyn Miller 562.922.2024 \nDavid- by Charles Swindoll
URL:https://lbac.org/event/womens-bible-study-the-millers-18/
LOCATION:4702 Snowden Ave\, Lakewood\, CA\, United States
GEO:33.850465;-118.109399
END:VEVENT
BEGIN:VEVENT
DTSTART;TZID=America/Los_Angeles:20251028T190000
DTEND;TZID=America/Los_Angeles:20251028T210000
DTSTAMP:20260423T061742
CREATED:20250813T050548Z
LAST-MODIFIED:20251028T212307Z
UID:10001878-1761678000-1761685200@lbac.org
SUMMARY:Men's Bible Study @ the Millers
DESCRIPTION:Studying: Deuteronomy\nFacilitator: John Welliver\nContact Dave Miller 562.773.9100 dmiller002@cc.rr.com
URL:https://lbac.org/event/mens-bible-study-the-millers-33/
LOCATION:4702 Snowden Ave\, Lakewood\, CA\, United States
GEO:33.850465;-118.109399
END:VEVENT
BEGIN:VEVENT
DTSTART;TZID=America/Los_Angeles:20251023T093000
DTEND;TZID=America/Los_Angeles:20251023T113000
DTSTAMP:20260423T061742
CREATED:20250627T175620Z
LAST-MODIFIED:20251022T194330Z
UID:10001708-1761211800-1761219000@lbac.org
SUMMARY:Women's Bible Study @ the Millers
DESCRIPTION:Facilitators: Colvin and Miller; Hosting Marilyn MillersContact: Marilyn Miller 562.922.2024 \nDavid- by Charles Swindoll
URL:https://lbac.org/event/womens-bible-study-the-millers-17/
LOCATION:4702 Snowden Ave\, Lakewood\, CA\, United States
GEO:33.850465;-118.109399
END:VEVENT
BEGIN:VEVENT
DTSTART;TZID=America/Los_Angeles:20251021T190000
DTEND;TZID=America/Los_Angeles:20251021T210000
DTSTAMP:20260423T061742
CREATED:20250813T050546Z
LAST-MODIFIED:20251021T192126Z
UID:10001877-1761073200-1761080400@lbac.org
SUMMARY:Men's Bible Study @ the Millers
DESCRIPTION:Studying: Deuteronomy\nFacilitator: John Welliver\nContact Dave Miller 562.773.9100 dmiller002@cc.rr.com
URL:https://lbac.org/event/mens-bible-study-the-millers-32/
LOCATION:4702 Snowden Ave\, Lakewood\, CA\, United States
GEO:33.850465;-118.109399
END:VEVENT
BEGIN:VEVENT
DTSTART;TZID=America/Los_Angeles:20251016T093000
DTEND;TZID=America/Los_Angeles:20251016T113000
DTSTAMP:20260423T061742
CREATED:20250627T175615Z
LAST-MODIFIED:20251016T182243Z
UID:10001693-1760607000-1760614200@lbac.org
SUMMARY:Women's Bible Study @ the Millers
DESCRIPTION:Facilitators: Colvin and Miller; Hosting Marilyn MillersContact: Marilyn Miller 562.922.2024 \nDavid- by Charles Swindoll
URL:https://lbac.org/event/womens-bible-study-the-millers-16/
LOCATION:4702 Snowden Ave\, Lakewood\, CA\, United States
GEO:33.850465;-118.109399
END:VEVENT
BEGIN:VEVENT
DTSTART;TZID=America/Los_Angeles:20251014T190000
DTEND;TZID=America/Los_Angeles:20251014T210000
DTSTAMP:20260423T061742
CREATED:20250813T050543Z
LAST-MODIFIED:20251014T180716Z
UID:10001876-1760468400-1760475600@lbac.org
SUMMARY:Men's Bible Study @ the Millers
DESCRIPTION:Studying: Deuteronomy\nFacilitator: John Welliver\nContact Dave Miller 562.773.9100 dmiller002@cc.rr.com
URL:https://lbac.org/event/mens-bible-study-the-millers-31/
LOCATION:4702 Snowden Ave\, Lakewood\, CA\, United States
GEO:33.850465;-118.109399
END:VEVENT
BEGIN:VEVENT
DTSTART;TZID=America/Los_Angeles:20251009T093000
DTEND;TZID=America/Los_Angeles:20251009T113000
DTSTAMP:20260423T061742
CREATED:20250627T175601Z
LAST-MODIFIED:20251009T170816Z
UID:10001676-1760002200-1760009400@lbac.org
SUMMARY:Women's Bible Study @ the Millers
DESCRIPTION:Facilitators: Colvin and Miller; Hosting Marilyn MillersContact: Marilyn Miller 562.922.2024 \nDavid- by Charles Swindoll
URL:https://lbac.org/event/womens-bible-study-the-millers-15/
LOCATION:4702 Snowden Ave\, Lakewood\, CA\, United States
GEO:33.850465;-118.109399
END:VEVENT
BEGIN:VEVENT
DTSTART;TZID=America/Los_Angeles:20251007T190000
DTEND;TZID=America/Los_Angeles:20251007T210000
DTSTAMP:20260423T061742
CREATED:20250813T050541Z
LAST-MODIFIED:20251007T164212Z
UID:10001875-1759863600-1759870800@lbac.org
SUMMARY:Men's Bible Study @ the Millers
DESCRIPTION:Studying: Deuteronomy\nFacilitator: John Welliver\nContact Dave Miller 562.773.9100 dmiller002@cc.rr.com
URL:https://lbac.org/event/mens-bible-study-the-millers-30/
LOCATION:4702 Snowden Ave\, Lakewood\, CA\, United States
GEO:33.850465;-118.109399
END:VEVENT
BEGIN:VEVENT
DTSTART;TZID=America/Los_Angeles:20251002T093000
DTEND;TZID=America/Los_Angeles:20251002T113000
DTSTAMP:20260423T061742
CREATED:20250627T175558Z
LAST-MODIFIED:20251002T153732Z
UID:10001664-1759397400-1759404600@lbac.org
SUMMARY:Women's Bible Study @ the Millers
DESCRIPTION:Facilitators: Colvin and Miller; Hosting Marilyn MillersContact: Marilyn Miller 562.922.2024 \nDavid- by Charles Swindoll
URL:https://lbac.org/event/womens-bible-study-the-millers-14/
LOCATION:4702 Snowden Ave\, Lakewood\, CA\, United States
GEO:33.850465;-118.109399
END:VEVENT
BEGIN:VEVENT
DTSTART;TZID=America/Los_Angeles:20250930T190000
DTEND;TZID=America/Los_Angeles:20250930T210000
DTSTAMP:20260423T061742
CREATED:20250813T050539Z
LAST-MODIFIED:20250930T150103Z
UID:10001874-1759258800-1759266000@lbac.org
SUMMARY:Men's Bible Study @ the Millers
DESCRIPTION:Studying: Deuteronomy\nFacilitator: John Welliver\nContact Dave Miller 562.773.9100 dmiller002@cc.rr.com
URL:https://lbac.org/event/mens-bible-study-the-millers-29/
LOCATION:4702 Snowden Ave\, Lakewood\, CA\, United States
GEO:33.850465;-118.109399
END:VEVENT
BEGIN:VEVENT
DTSTART;TZID=America/Los_Angeles:20250925T093000
DTEND;TZID=America/Los_Angeles:20250925T113000
DTSTAMP:20260423T061742
CREATED:20250627T175555Z
LAST-MODIFIED:20250925T130832Z
UID:10001651-1758792600-1758799800@lbac.org
SUMMARY:Women's Bible Study @ the Millers
DESCRIPTION:Facilitators: Colvin and Miller; Hosting Marilyn MillersContact: Marilyn Miller 562.922.2024 \nDavid- by Charles Swindoll
URL:https://lbac.org/event/womens-bible-study-the-millers-13/
LOCATION:4702 Snowden Ave\, Lakewood\, CA\, United States
GEO:33.850465;-118.109399
END:VEVENT
BEGIN:VEVENT
DTSTART;TZID=America/Los_Angeles:20250923T190000
DTEND;TZID=America/Los_Angeles:20250923T210000
DTSTAMP:20260423T061742
CREATED:20250813T050537Z
LAST-MODIFIED:20250923T130038Z
UID:10001873-1758654000-1758661200@lbac.org
SUMMARY:Men's Bible Study @ the Millers
DESCRIPTION:Studying: Deuteronomy\nFacilitator: John Welliver\nContact Dave Miller 562.773.9100 dmiller002@cc.rr.com
URL:https://lbac.org/event/mens-bible-study-the-millers-28/
LOCATION:4702 Snowden Ave\, Lakewood\, CA\, United States
GEO:33.850465;-118.109399
END:VEVENT
BEGIN:VEVENT
DTSTART;TZID=America/Los_Angeles:20250918T093000
DTEND;TZID=America/Los_Angeles:20250918T113000
DTSTAMP:20260423T061742
CREATED:20250627T175552Z
LAST-MODIFIED:20250918T115056Z
UID:10001635-1758187800-1758195000@lbac.org
SUMMARY:Women's Bible Study @ the Millers
DESCRIPTION:Facilitators: Colvin and Miller; Hosting Marilyn MillersContact: Marilyn Miller 562.922.2024 \nDavid- by Charles Swindoll
URL:https://lbac.org/event/womens-bible-study-the-millers-12/
LOCATION:4702 Snowden Ave\, Lakewood\, CA\, United States
GEO:33.850465;-118.109399
END:VEVENT
BEGIN:VEVENT
DTSTART;TZID=America/Los_Angeles:20250916T190000
DTEND;TZID=America/Los_Angeles:20250916T210000
DTSTAMP:20260423T061742
CREATED:20250813T050534Z
LAST-MODIFIED:20250916T113054Z
UID:10001872-1758049200-1758056400@lbac.org
SUMMARY:Men's Bible Study @ the Millers
DESCRIPTION:Studying: Deuteronomy\nFacilitator: John Welliver\nContact Dave Miller 562.773.9100 dmiller002@cc.rr.com
URL:https://lbac.org/event/mens-bible-study-the-millers-27/
LOCATION:4702 Snowden Ave\, Lakewood\, CA\, United States
GEO:33.850465;-118.109399
END:VEVENT
BEGIN:VEVENT
DTSTART;TZID=America/Los_Angeles:20250911T093000
DTEND;TZID=America/Los_Angeles:20250911T113000
DTSTAMP:20260423T061742
CREATED:20250627T175549Z
LAST-MODIFIED:20250911T183131Z
UID:10001619-1757583000-1757590200@lbac.org
SUMMARY:Women's Bible Study @ the Millers
DESCRIPTION:Facilitators: Colvin and Miller; Hosting Marilyn MillersContact: Marilyn Miller 562.922.2024 \nDavid- by Charles Swindoll
URL:https://lbac.org/event/womens-bible-study-the-millers-11/
LOCATION:4702 Snowden Ave\, Lakewood\, CA\, United States
GEO:33.850465;-118.109399
END:VEVENT
BEGIN:VEVENT
DTSTART;TZID=America/Los_Angeles:20250909T190000
DTEND;TZID=America/Los_Angeles:20250909T210000
DTSTAMP:20260423T061742
CREATED:20250813T050532Z
LAST-MODIFIED:20250910T035440Z
UID:10001871-1757444400-1757451600@lbac.org
SUMMARY:Men's Bible Study @ the Millers
DESCRIPTION:Studying: Deuteronomy\nFacilitator: John Welliver\nContact Dave Miller 562.773.9100 dmiller002@cc.rr.com
URL:https://lbac.org/event/mens-bible-study-the-millers-26/
LOCATION:4702 Snowden Ave\, Lakewood\, CA\, United States
GEO:33.850465;-118.109399
END:VEVENT
BEGIN:VEVENT
DTSTART;TZID=America/Los_Angeles:20250904T093000
DTEND;TZID=America/Los_Angeles:20250904T113000
DTSTAMP:20260423T061742
CREATED:20250627T175539Z
LAST-MODIFIED:20250904T100122Z
UID:10001604-1756978200-1756985400@lbac.org
SUMMARY:Women's Bible Study @ the Millers
DESCRIPTION:Facilitators: Colvin and Miller; Hosting Marilyn MillersContact: Marilyn Miller 562.922.2024 \nDavid- by Charles Swindoll
URL:https://lbac.org/event/womens-bible-study-the-millers-10/
LOCATION:4702 Snowden Ave\, Lakewood\, CA\, United States
GEO:33.850465;-118.109399
END:VEVENT
BEGIN:VEVENT
DTSTART;TZID=America/Los_Angeles:20250902T190000
DTEND;TZID=America/Los_Angeles:20250902T210000
DTSTAMP:20260423T061742
CREATED:20250813T050530Z
LAST-MODIFIED:20250902T093717Z
UID:10001870-1756839600-1756846800@lbac.org
SUMMARY:Men's Bible Study @ the Millers
DESCRIPTION:Studying: Deuteronomy\nFacilitator: John Welliver\nContact Dave Miller 562.773.9100 dmiller002@cc.rr.com
URL:https://lbac.org/event/mens-bible-study-the-millers-25/
LOCATION:4702 Snowden Ave\, Lakewood\, CA\, United States
GEO:33.850465;-118.109399
END:VEVENT
BEGIN:VEVENT
DTSTART;TZID=America/Los_Angeles:20250828T093000
DTEND;TZID=America/Los_Angeles:20250828T113000
DTSTAMP:20260423T061742
CREATED:20250627T175534Z
LAST-MODIFIED:20250828T081120Z
UID:10001592-1756373400-1756380600@lbac.org
SUMMARY:Women's Bible Study @ the Millers
DESCRIPTION:Facilitators: Colvin and Miller; Hosting Marilyn MillersContact: Marilyn Miller 562.922.2024 \nDavid- by Charles Swindoll
URL:https://lbac.org/event/womens-bible-study-the-millers-9/
LOCATION:4702 Snowden Ave\, Lakewood\, CA\, United States
GEO:33.850465;-118.109399
END:VEVENT
BEGIN:VEVENT
DTSTART;TZID=America/Los_Angeles:20250826T190000
DTEND;TZID=America/Los_Angeles:20250826T210000
DTSTAMP:20260423T061742
CREATED:20250627T175533Z
LAST-MODIFIED:20250826T075306Z
UID:10001589-1756234800-1756242000@lbac.org
SUMMARY:Men's Bible Study @ the Millers
DESCRIPTION:Facilitator: John Welliver\nContact Dave Miller 562.773.9100 dmiller002@cc.rr.com
URL:https://lbac.org/event/mens-bible-study-the-millers-9/
LOCATION:4702 Snowden Ave\, Lakewood\, CA\, United States
GEO:33.850465;-118.109399
END:VEVENT
BEGIN:VEVENT
DTSTART;TZID=America/Los_Angeles:20250821T093000
DTEND;TZID=America/Los_Angeles:20250821T113000
DTSTAMP:20260423T061742
CREATED:20250627T175529Z
LAST-MODIFIED:20250821T070336Z
UID:10001575-1755768600-1755775800@lbac.org
SUMMARY:Women's Bible Study @ the Millers
DESCRIPTION:Facilitators: Colvin and Miller; Hosting Marilyn MillersContact: Marilyn Miller 562.922.2024 \nDavid- by Charles Swindoll
URL:https://lbac.org/event/womens-bible-study-the-millers-8/
LOCATION:4702 Snowden Ave\, Lakewood\, CA\, United States
GEO:33.850465;-118.109399
END:VEVENT
END:VCALENDAR